BEGIN:VCALENDAR
VERSION:2.0
PRODID:-//wp-events-plugin.com//7.2.3.1//EN
BEGIN:VEVENT
UID:0-46@hsdpracticesales.co.uk
DTSTART:20260626T083000Z
DTEND:20260626T190000Z
DTSTAMP:20260421T150516Z
URL:https://hsdpracticesales.co.uk/events/dentally-live-2026/
SUMMARY:Dentally Live 2026
DESCRIPTION:We'll be at Dentally Live - a one day event covering a range of
  topics:\n\n\n 	Innovation in dentistry - Explore practical innovations tr
 ansforming dentistry\, reducing admin and improving patient outcomes\n 	Pr
 actice growth strategies - Learn proven strategies to attract patients\, r
 etain loyalty and grow your practice with confidence\n 	Product &amp\; roa
 dmap insights - See how your feedback shapes our roadmap and future featur
 es\n 	Peer learning &amp\; networking - A chance to connect with peers and
  experts to tackle dentistry’s biggest challenges.\n\n\n\nIt's a chance 
 for practice owners to:\n\n 	gain practical insight to overcome today’s 
 biggest dental practice challenges\n 	learn about what’s coming next in 
 Dentally\, and\n 	influence the future of your practice.\n\n&nbsp\;\n\n\n\
 n
LOCATION:https://www.dentally.com/en-gb/dentally-live-2026
END:VEVENT
END:VCALENDAR