BEGIN:VCALENDAR
VERSION:2.0
PRODID:-//wp-events-plugin.com//7.2.3.1//EN
BEGIN:VEVENT
UID:0-41@hsdpracticesales.co.uk
DTSTART;TZID=Europe/London:20260515T090000
DTEND;TZID=Europe/London:20260516T173000
DTSTAMP:20260331T142454Z
URL:https://hsdpracticesales.co.uk/events/dentistry-show-birmingham-2026/
SUMMARY:Dentistry Show Birmingham
DESCRIPTION:Join us at Dentistry Show Birmingham for another successful yea
 r of networking and collaborating with the dental industry. We will be on 
 the Henry Schein Dental stand Stand L30 opposite our colleagues at Opident
  and dentally.\nMeet our dental practice sales team and chat to us about..
 .\n\n\n 	Growing your dental practice to increase its sale value\n 	Sellin
 g your dental practice\n 	Buying a dental practice\n 	Dental practice fina
 nce\n\nLive events like this are an irreplicable experience to join togeth
 er in developing personal and professional development across the industry
 .\nWhether that be to gain CPD for yourself\, learn resolution tactics for
  issues you’ve noticed in your practice\, or buy revolutionary equipment
 \, you will leave BDCDS with a whole new outlook.\n\n 200+ Speakers  | 
  400+ Exhibitors\nBDCDS is an event for every dental professional. This in
 cludes principals\, owners\, dentists\, dental surgeons\, orthodontists\, 
 periodontists\, practice managers\, dental hygienists and dental therapist
 s\, dental nurses\, dental distributors and many more!\n\nOpening Hours:\n
 Friday 15th May 2023: 09.00 – 17.30\nSaturday 16th May 2023: 09.00 – 1
 7.30\n\n&nbsp\;
LOCATION:National Exhibition Centre\, Pendigo Way\, Birmingham\, B40 1NT\, 
 United Kingdom
X-APPLE-STRUCTURED-LOCATION;VALUE=URI;X-ADDRESS=Pendigo Way\, Birmingham\, 
 B40 1NT\, United Kingdom;X-APPLE-RADIUS=100;X-TITLE=National Exhibition Ce
 ntre:geo:0,0
END:VEVENT
BEGIN:VTIMEZONE
TZID:Europe/London
X-LIC-LOCATION:Europe/London
BEGIN:DAYLIGHT
DTSTART:20260329T020000
TZOFFSETFROM:+0000
TZOFFSETTO:+0100
TZNAME:BST
END:DAYLIGHT
END:VTIMEZONE
END:VCALENDAR