BEGIN:VCALENDAR
VERSION:2.0
PRODID:-//wp-events-plugin.com//7.2.3.1//EN
BEGIN:VEVENT
UID:0-40@hsdpracticesales.co.uk
DTSTART:20260604T130000Z
DTEND:20260605T173000Z
DTSTAMP:20260331T140924Z
URL:https://hsdpracticesales.co.uk/events/ldc-conference-2026/
SUMMARY:LDC Conference
DESCRIPTION:We will be exhibiting at this years' LDC Conference. Our dental
  practice sales team will be on hand to answer any questions\, whether you
 ’re looking to buy or sell a practice or recruit top-tier talent to enha
 nce your team.\n\nThe BDA Events team help organise the LDC Conference and
  black-tie Dinner each year working on behalf of the Annual Conference of 
 LDCs Agenda Committee.\n\nThe conference is a unique event with the attend
 ance of 200 to 250 influential decision making dentists from all over the 
 UK guaranteed\, it presents an excellent opportunity for organisations to 
 raise their profile in the profession.\n\nDelegates comprise LDC Represent
 atives and Observers nominated by their LDC together with members of the B
 DA’s General Dental Practice Committee (GDPC)
LOCATION:Manchester Deansgate Hotel\, 303 Deansgate\,  Manchester \, M3 4LQ
 \, United Kingdom
X-APPLE-STRUCTURED-LOCATION;VALUE=URI;X-ADDRESS=303 Deansgate\,  Manchester
  \, M3 4LQ\, United Kingdom;X-APPLE-RADIUS=100;X-TITLE=Manchester Deansgat
 e Hotel:geo:0,0
END:VEVENT
END:VCALENDAR