BEGIN:VCALENDAR
VERSION:2.0
PRODID:-//wp-events-plugin.com//7.2.3.1//EN
BEGIN:VEVENT
UID:0-47@hsdpracticesales.co.uk
DTSTART:20260509T000000Z
DTEND:20260509T000000Z
DTSTAMP:20260421T151801Z
URL:https://hsdpracticesales.co.uk/events/the-business-of-dentistry-thinki
 ng-beyond-the-chair/
SUMMARY:The Business of Dentistry: Thinking Beyond the Chair
DESCRIPTION:We’re pleased to be attending The Business of Dentistry: Thi
 nking Beyond the Chair\, an event designed for ambitious practice owners l
 ooking to grow\, optimise\, and future-proof their business.\nThis event f
 ocuses on the commercial side of dentistry—covering key topics such as f
 inancial performance\, profitability\, exit planning\, and building long-t
 erm practice value. It brings together industry experts and practice owner
 s to share practical insights on how to run a more successful\, scalable d
 ental business.\n\nWhether you’re planning for growth or considering you
 r long-term exit strategy\, this event offers valuable guidance on how to 
 make smarter decisions that directly impact your practice’s valuation.\n
 \n&nbsp\;\n\n
END:VEVENT
END:VCALENDAR