BEGIN:VCALENDAR
VERSION:2.0
PRODID:-//wp-events-plugin.com//7.2.3.1//EN
BEGIN:VEVENT
UID:0-44@hsdpracticesales.co.uk
DTSTART;TZID=Europe/London:20260424T090000
DTEND;TZID=Europe/London:20260424T163000
DTSTAMP:20260421T144609Z
URL:https://hsdpracticesales.co.uk/events/the-force-is-female/
SUMMARY:The Force is Female
DESCRIPTION:\n\nWe'll be at The Force Is Female held by The Female Dentist.
  A day designed to empower\, support and connect.\n\nMore details at Force
  is Female - The Female Dentist\n\n \n\n
LOCATION:Barclays\, 1 Churchill Place\,  Canary Wharf\, London\, E14 5HP\, 
 United Kingdom
X-APPLE-STRUCTURED-LOCATION;VALUE=URI;X-ADDRESS=1 Churchill Place\,  Canary
  Wharf\, London\, E14 5HP\, United Kingdom;X-APPLE-RADIUS=100;X-TITLE=Barc
 lays:geo:0,0
END:VEVENT
BEGIN:VTIMEZONE
TZID:Europe/London
X-LIC-LOCATION:Europe/London
BEGIN:DAYLIGHT
DTSTART:20260329T020000
TZOFFSETFROM:+0000
TZOFFSETTO:+0100
TZNAME:BST
END:DAYLIGHT
END:VTIMEZONE
END:VCALENDAR